BEGIN:VCALENDAR
VERSION:2.0
PRODID:-//eventon.com NONSGML v1.0//EN
CALSCALE:GREGORIAN
METHOD:PUBLISH
BEGIN:VEVENT
UID:69e7332ed0fdc
DTSTAMP:20260421T081958Z
DTSTART:20180728
DTEND:20180729
LOCATION:Hörlkam 84144 Geisenhausen
SUMMARY:Nachtflohmarkt FFW Salksdorf in Hörlkam
DESCRIPTION:Nachtflohmarkt FFW Salksdorf in Hörlkam\nhttps://graf-arco.de/
 events/nachtflohmarkt-ffw-salksdorf-hoerlkam/
URL:https://graf-arco.de/events/nachtflohmarkt-ffw-salksdorf-hoerlkam/
END:VEVENT
END:VCALENDAR