BEGIN:VCALENDAR
VERSION:2.0
PRODID:-//eventon.com NONSGML v1.0//EN
CALSCALE:GREGORIAN
METHOD:PUBLISH
BEGIN:VEVENT
UID:69e4eed1e1cf7
DTSTAMP:20260419T150345Z
DTSTART:20160708
DTEND:20160709
LOCATION:
SUMMARY:Sonnwendfeuer der KLJB Falkenberg
DESCRIPTION:Sonnwendfeuer der KLJB Falkenberg\nhttps://graf-arco.de/events/
 sonnwendfeuer-der-kljb-falkenberg/
URL:https://graf-arco.de/events/sonnwendfeuer-der-kljb-falkenberg/
END:VEVENT
END:VCALENDAR