BEGIN:VCALENDAR
VERSION:2.0
PRODID:-//eventon.com NONSGML v1.0//EN
CALSCALE:GREGORIAN
METHOD:PUBLISH
BEGIN:VEVENT
UID:69e733e05f7d2
DTSTAMP:20260421T082256Z
DTSTART:20170311
DTEND:20170312
LOCATION:Leebs Dorfstubn Osterhofener Str. 11\,  94522 Wallersdorf
SUMMARY:Starkbierfest - Leebs Dorfstubn\,  Ettling
DESCRIPTION:Bayerisches Buffet musikalische Umrahmung mit den Klosterhofmus
 ikanten bayerisches Kabarett mit Florian Kopp Einlass ab 19 Uhr 19:30 Uhr B
 ieranstich\nhttps://graf-arco.de/events/starkbierfest-leebs-dorfstubn-ettli
 ng/
URL:https://graf-arco.de/events/starkbierfest-leebs-dorfstubn-ettling/
END:VEVENT
END:VCALENDAR