BEGIN:VCALENDAR
VERSION:2.0
PRODID:-//eventon.com NONSGML v1.0//EN
CALSCALE:GREGORIAN
METHOD:PUBLISH
BEGIN:VEVENT
UID:69e73385e068a
DTSTAMP:20260421T082125Z
DTSTART:20190811
DTEND:20190812
LOCATION:
SUMMARY:Weiherfest des Bezirksfischereivereins Deggendorf
DESCRIPTION:Weiherfest des Bezirksfischereivereins Deggendorf\nhttps://graf
 -arco.de/events/weiherfest-des-bezirksfischereivereins-deggendorf/
URL:https://graf-arco.de/events/weiherfest-des-bezirksfischereivereins-deggendorf/
END:VEVENT
END:VCALENDAR