BEGIN:VCALENDAR
VERSION:2.0
PRODID:-//eventon.com NONSGML v1.0//EN
CALSCALE:GREGORIAN
METHOD:PUBLISH
BEGIN:VEVENT
UID:69e736696f1e7
DTSTAMP:20260421T083345Z
DTSTART:20220901
DTEND:20220902
LOCATION:Festwiese Karpfham Karpfham\,  94086 Bad Griesbach
SUMMARY:Karpfhamer Fest
DESCRIPTION:Oans wia koans! https://www.karpfhamerfest.de/ (Planungsstand u
 nter Vorbehalt &#8211; corona-bedingte Änderungen vorbehalten!)\nhttps://g
 raf-arco.de/events/karpfhamer-fest-3/
URL:https://graf-arco.de/events/karpfhamer-fest-3/
END:VEVENT
END:VCALENDAR