BEGIN:VCALENDAR
VERSION:2.0
PRODID:-//eventon.com NONSGML v1.0//EN
CALSCALE:GREGORIAN
METHOD:PUBLISH
BEGIN:VEVENT
UID:69e7478d9e4d0
DTSTAMP:20260421T094653Z
DTSTART:20220610
DTEND:20220611
LOCATION:94103 Postau
SUMMARY:175 Jahre FFW Oberköllnbach
DESCRIPTION:corona-bedingte Änderungen vorbehalten &nbsp;\nhttps://graf-ar
 co.de/events/ffw-oberkoellnbach/
URL:https://graf-arco.de/events/ffw-oberkoellnbach/
END:VEVENT
END:VCALENDAR