BEGIN:VCALENDAR
VERSION:2.0
PRODID:-//eventon.com NONSGML v1.0//EN
CALSCALE:GREGORIAN
METHOD:PUBLISH
BEGIN:VEVENT
UID:69e7479879944
DTSTAMP:20260421T094704Z
DTSTART:20220615
DTEND:20220616
LOCATION:Festwiese Wallersdorf 94522 Wallersdorf
SUMMARY:Volksfest Wallersdorf
DESCRIPTION:Corona-bedingte Änderungen vorbehalten.\nhttps://graf-arco.de/
 events/volksfest-wallersdorf-3/
URL:https://graf-arco.de/events/volksfest-wallersdorf-3/
END:VEVENT
END:VCALENDAR