BEGIN:VCALENDAR
VERSION:2.0
PRODID:-//eventon.com NONSGML v1.0//EN
CALSCALE:GREGORIAN
METHOD:PUBLISH
BEGIN:VEVENT
UID:69e733cdc4e1e
DTSTAMP:20260421T082237Z
DTSTART:20230915
DTEND:20230916
LOCATION:Festwiese in Adldorf 94428 Adldorf
SUMMARY:50 Jahre KLJB Eichendorf-Pitzling
DESCRIPTION:&nbsp; &nbsp;\nhttps://graf-arco.de/events/50-jahre-kljb-eichen
 dorf-pitzling/
URL:https://graf-arco.de/events/50-jahre-kljb-eichendorf-pitzling/
END:VEVENT
END:VCALENDAR