BEGIN:VCALENDAR
VERSION:2.0
PRODID:-//eventon.com NONSGML v1.0//EN
CALSCALE:GREGORIAN
METHOD:PUBLISH
BEGIN:VEVENT
UID:69e747b163f8d
DTSTAMP:20260421T094729Z
DTSTART:20250822
DTEND:20250823
LOCATION:Festwiese Simbach/Landau 94436 Simbach / Landau
SUMMARY:Volksfest Simbach/Landau
DESCRIPTION:\nhttps://graf-arco.de/events/volksfest-simbach-landau-5/
URL:https://graf-arco.de/events/volksfest-simbach-landau-5/
END:VEVENT
END:VCALENDAR