BEGIN:VCALENDAR
VERSION:2.0
PRODID:-//eventon.com NONSGML v1.0//EN
CALSCALE:GREGORIAN
METHOD:PUBLISH
BEGIN:VEVENT
UID:69e74a3e522ab
DTSTAMP:20260421T095822Z
DTSTART:20250828
DTEND:20250829
LOCATION:Festwiese Karpfham Karpfham\,  94086 Bad Griesbach
SUMMARY:Karpfhamer Fest
DESCRIPTION:Des is einfach &#8222;Oans wia koans!&#8220; https://www.karpfh
 amerfest.de/ &nbsp;\nhttps://graf-arco.de/events/karpfhamer-fest-5/
URL:https://graf-arco.de/events/karpfhamer-fest-5/
END:VEVENT
END:VCALENDAR