BEGIN:VCALENDAR
VERSION:2.0
PRODID:-//eventon.com NONSGML v1.0//EN
CALSCALE:GREGORIAN
METHOD:PUBLISH
BEGIN:VEVENT
UID:69e74a4763c87
DTSTAMP:20260421T095831Z
DTSTART:20250705
DTEND:20250706
LOCATION:FFW Haidenkofen
SUMMARY:150 jähriges Gründungsfest FFW Haidenkofen
DESCRIPTION:\nhttps://graf-arco.de/events/150-jaehriges-gruendungsfest-ffw-
 haidenkofen/
URL:https://graf-arco.de/events/150-jaehriges-gruendungsfest-ffw-haidenkofen/
END:VEVENT
END:VCALENDAR